BEGIN:VCALENDAR
VERSION:2.0
PRODID:-//Freakin&#039; Awesome Gay Stuff - ECPv6.15.20//NONSGML v1.0//EN
CALSCALE:GREGORIAN
METHOD:PUBLISH
X-WR-CALNAME:Freakin&#039; Awesome Gay Stuff
X-ORIGINAL-URL:https://gaystufftoronto.com
X-WR-CALDESC:Events for Freakin&#039; Awesome Gay Stuff
REFRESH-INTERVAL;VALUE=DURATION:PT1H
X-Robots-Tag:noindex
X-PUBLISHED-TTL:PT1H
BEGIN:VTIMEZONE
TZID:America/New_York
BEGIN:DAYLIGHT
TZOFFSETFROM:-0500
TZOFFSETTO:-0400
TZNAME:EDT
DTSTART:20250309T070000
END:DAYLIGHT
BEGIN:STANDARD
TZOFFSETFROM:-0400
TZOFFSETTO:-0500
TZNAME:EST
DTSTART:20251102T060000
END:STANDARD
BEGIN:DAYLIGHT
TZOFFSETFROM:-0500
TZOFFSETTO:-0400
TZNAME:EDT
DTSTART:20260308T070000
END:DAYLIGHT
BEGIN:STANDARD
TZOFFSETFROM:-0400
TZOFFSETTO:-0500
TZNAME:EST
DTSTART:20261101T060000
END:STANDARD
BEGIN:DAYLIGHT
TZOFFSETFROM:-0500
TZOFFSETTO:-0400
TZNAME:EDT
DTSTART:20270314T070000
END:DAYLIGHT
BEGIN:STANDARD
TZOFFSETFROM:-0400
TZOFFSETTO:-0500
TZNAME:EST
DTSTART:20271107T060000
END:STANDARD
END:VTIMEZONE
BEGIN:VEVENT
DTSTART;TZID=America/New_York:20260208T160000
DTEND;TZID=America/New_York:20260208T210000
DTSTAMP:20260424T133546
CREATED:20260122T043943Z
LAST-MODIFIED:20260124T072927Z
UID:33785-1770566400-1770584400@gaystufftoronto.com
SUMMARY:Starkers!
DESCRIPTION:Come enjoy this dancey\, play-positive totally naked event run by Toronto Nude Dudes in partnership with Freakin’ Awesome Gay Stuff. \nNo photos or videos allowed. Play permitted anywhere at this event. Dance or get flirty as you see fit. \nThis event also celebrates the birthdays of Matkai and Helder. \nAccessibility Notice: This venue is on the 2nd floor space and you must walk up stairs to access it which sadly means it is not fully accessible.
URL:https://gaystufftoronto.com/event/starkers-jan-2026/
LOCATION:The 508 Upstairs Space\, 508A Church St\, Toronto\, ON\, M4Y 2C8\, Canada
CATEGORIES:For Guys
ATTACH;FMTTYPE=image/png:https://gaystufftoronto.com/wp-content/uploads/2026/01/Starkers-Poster.avif
END:VEVENT
END:VCALENDAR