BEGIN:VCALENDAR
VERSION:2.0
PRODID:-//Freakin&#039; Awesome Gay Stuff - ECPv6.15.20//NONSGML v1.0//EN
CALSCALE:GREGORIAN
METHOD:PUBLISH
X-WR-CALNAME:Freakin&#039; Awesome Gay Stuff
X-ORIGINAL-URL:https://gaystufftoronto.com
X-WR-CALDESC:Events for Freakin&#039; Awesome Gay Stuff
REFRESH-INTERVAL;VALUE=DURATION:PT1H
X-Robots-Tag:noindex
X-PUBLISHED-TTL:PT1H
BEGIN:VTIMEZONE
TZID:America/New_York
BEGIN:DAYLIGHT
TZOFFSETFROM:-0500
TZOFFSETTO:-0400
TZNAME:EDT
DTSTART:20250309T070000
END:DAYLIGHT
BEGIN:STANDARD
TZOFFSETFROM:-0400
TZOFFSETTO:-0500
TZNAME:EST
DTSTART:20251102T060000
END:STANDARD
BEGIN:DAYLIGHT
TZOFFSETFROM:-0500
TZOFFSETTO:-0400
TZNAME:EDT
DTSTART:20260308T070000
END:DAYLIGHT
BEGIN:STANDARD
TZOFFSETFROM:-0400
TZOFFSETTO:-0500
TZNAME:EST
DTSTART:20261101T060000
END:STANDARD
BEGIN:DAYLIGHT
TZOFFSETFROM:-0500
TZOFFSETTO:-0400
TZNAME:EDT
DTSTART:20270314T070000
END:DAYLIGHT
BEGIN:STANDARD
TZOFFSETFROM:-0400
TZOFFSETTO:-0500
TZNAME:EST
DTSTART:20271107T060000
END:STANDARD
END:VTIMEZONE
BEGIN:VEVENT
DTSTART;TZID=America/New_York:20260425T210000
DTEND;TZID=America/New_York:20260426T023000
DTSTAMP:20260424T115111
CREATED:20260328T062655Z
LAST-MODIFIED:20260424T133845Z
UID:10000219-1777150800-1777170600@gaystufftoronto.com
SUMMARY:JOCKS & SOCKS - April
DESCRIPTION:JOCKS & SOCKS is the high-energy jockstrap (and accessories) dance party for guys! Come show off that peach! \n\nYour DJ is playing an epic house mix\nDress code is Jockstraps & Accessories (shoes must stay on). Feel free to have fun dressing up your look as long as your jockstrap is at the core of it.\nFree clothes check (encouraged: bringing cash to tip the CC attendants)\nFor guys (when we say guys that includes both cis and trans guys as well as non-binary folks who identify with the crowd).\nWhile mostly dance-focussed\, play is permitted at this event ONLY in the darkroom provided.\nNo photos or videos are permitted at this event.\n\n\nTickets: \n\n$10 Early Bird tickets (limited supply) SOLD OUT\n$15 advanced online (available until the day before the event)\n$20 day-of / at-door\nTicket prices subject to HST.\n\nThis is a limited space venue and is likely to sell out quickly. Ticket holders will be given priority entry until midnight only\, after-which ticket holders and at-door will be treated as one line. Tickets will be available at the door if space permits\, so expect lines if we are full.
URL:https://gaystufftoronto.com/event/jocks-socks-april-2026/
LOCATION:The 508 – Zone Backspace\, 508A Church St\, Toronto\, ON\, M4Y 2C8\, Canada
CATEGORIES:For Guys
ATTACH;FMTTYPE=image/jpeg:https://gaystufftoronto.com/wp-content/uploads/2026/03/Jocks-and-Socks-April-2026-Tease.webp
END:VEVENT
BEGIN:VEVENT
DTSTART;TZID=America/New_York:20260426T160000
DTEND;TZID=America/New_York:20260426T210000
DTSTAMP:20260424T115111
CREATED:20260406T094916Z
LAST-MODIFIED:20260406T095455Z
UID:10000224-1777219200-1777237200@gaystufftoronto.com
SUMMARY:LOCKER ROOM: Wrestling Edition
DESCRIPTION:LOCKER ROOM this month is a special WRESTLING edition – in partnership with Wrestlefest Toronto. Generously sponsored by WatchFighters/MeetFighters. \nCome hang out with sporty guys (and those who can pretend they are sporty) at LOCKER ROOM! \nWrestling demos featuring Ryan Reilly and Masked Machine! \nYou are encouraged to wear singlets or sportswear/gear at this month’s event. The dress code for this event is optional and you don’t have to (but why not join in?). \nThere are 3 areas: \n\nBar area is for socializing & hanging out.\nDance floor with DJ Aldiexso for dancing.\nDarkroom for extracurriculars 😉\n\nTickets are $10 in advance or $15 day-of/at the door. \n\nClothes Check: is free (but please consider bringing some cash to tip your attendant)\nPhotos/Videos Policy: Photos/Videos ARE permitted at this event. Please be respectful and ask others for consent if they are in your content. Please do NOT take photos/videos in the darkroom area.\nDark Room: The event has a small darkroom area. Play is permitted in the darkroom only. Consent is mandatory.\n\nP.S. Check out Wrestlefest online at: https://www.wrestlefestcanada.com/
URL:https://gaystufftoronto.com/event/locker-room-wrestling-edition/
LOCATION:The 508 Upstairs Space\, 508A Church St\, Toronto\, ON\, M4Y 2C8\, Canada
CATEGORIES:For Guys
ATTACH;FMTTYPE=image/jpeg:https://gaystufftoronto.com/wp-content/uploads/2026/04/LockerRoom-April-2026c.webp
END:VEVENT
BEGIN:VEVENT
DTSTART;TZID=America/New_York:20260517T160000
DTEND;TZID=America/New_York:20260517T210000
DTSTAMP:20260424T115111
CREATED:20260328T053535Z
LAST-MODIFIED:20260415T044742Z
UID:10000215-1779033600-1779051600@gaystufftoronto.com
SUMMARY:STARKERS! - Naked Tea Dance - May
DESCRIPTION:STARKERS! is the Sunday Tea Dance where the dress code is completely starkers (naked). Early enough to be in bed for your Monday morning adulting.\n \nTickets are $10 if you buy in advance online or $15 day-of/at-door. \n\nStudent discount available ($5 off with valid Student ID. You must be 19+)\n\n3 Areas: \n\nLounge area for socializing.\nDance floor for dancing (with DJ playing for you)\nDark room for play.\n\nClothes check is free. You may wish to bring a cash tip for the attendants. \nThe bar will have alcoholic and non-alcoholic drinks for sale (they only take Interac / VISA / MasterCard / Apple Pay / Google Pay). \nThis event is in partnership with Toronto Nude Dudes (TND) – the club for men into social naturism/nudism. Learn more about them by visiting https://shor.by/tnd
URL:https://gaystufftoronto.com/event/starkers-may/
LOCATION:The 508 Upstairs Space\, 508A Church St\, Toronto\, ON\, M4Y 2C8\, Canada
CATEGORIES:For Guys
ATTACH;FMTTYPE=image/jpeg:https://gaystufftoronto.com/wp-content/uploads/2026/03/STARKERS-May2026-DJSumation.webp
END:VEVENT
BEGIN:VEVENT
DTSTART;TZID=America/New_York:20260523T210000
DTEND;TZID=America/New_York:20260524T023000
DTSTAMP:20260424T115111
CREATED:20260328T063944Z
LAST-MODIFIED:20260406T094128Z
UID:10000220-1779570000-1779589800@gaystufftoronto.com
SUMMARY:FRAT HOUSE X - May
DESCRIPTION:Dive into a college fraternity-themed event that is for the gay dudes\, bromos and bi buds (and those into them). \n🕺 Dance to banging music by DJ Sumation.\n🏓 Play beer pong and/or flip cup.\n😉 Get hazed* in one of the live hazing shows hosted by Frat Dads! From whipped cream to a whip or two? What will he have in store for you and/or your friends that you encourage to get hazed?\n😈 Feeling frisky?** There’s a mini darkroom for you to serve your fellow bros what they’ve been craving. \nTICKETS: \n\n$10 Early Bird (very limited supply)\n$15 Advanced (available until the day before the event)\n$20 day-of\nThis is a smaller venue than many others we book\, so it’s likely to fill up much quicker. We may not have any tickets at the door.\nTickets subject to HST (sales tax).\n\nNOTE: \n* The live hazing shows are just for fun and do not contain dangerous or illegal acts. They are not “real hazing” and require consent. The “Frat Dads” are hosts and they will discuss with you your limits should you wish to participate. You do not have to take part in the hazing shows if you don’t want to. You will not be forced to do anything you don’t wanna do. \n** Consent is mandatory. No means no.
URL:https://gaystufftoronto.com/event/frat-house-x-may-2026/
LOCATION:The 508 – Zone Backspace\, 508A Church St\, Toronto\, ON\, M4Y 2C8\, Canada
CATEGORIES:For Guys
ATTACH;FMTTYPE=image/jpeg:https://gaystufftoronto.com/wp-content/uploads/2026/03/Frat-House-X-May-2026.webp
END:VEVENT
BEGIN:VEVENT
DTSTART;TZID=America/New_York:20260718T210000
DTEND;TZID=America/New_York:20260719T023000
DTSTAMP:20260424T115111
CREATED:20260414T230212Z
LAST-MODIFIED:20260414T231454Z
UID:10000228-1784408400-1784428200@gaystufftoronto.com
SUMMARY:Toronto Fest 2026 Naked Dance
DESCRIPTION:GNI (Gay Naturists International) and TND (Toronto Nude Dudes) co-present the Toronto Fest 2026 Naked Dance!\nGuys travel from all over for this annual weekend of naked activities in Toronto and this naked dance is the mainstage event of the weekend. Typically you will see guys from the GTA but also from various Canadian and US cities. \nThis party is open to male-identifying nudists\, so be sure to bring your friends with you!!! Can there ever be too many naked men?\n\n$20 in advance online.\n$25 day-of/at-door.\n\nGNI will have a table with more information about their group\, and TND will also have information about their group available.\nKey details: \n\nDress code: naked mandatory (but please keep shoes on)\nClothes check: free (please consider bringing a cash tip for the guys – they work hard to keep your items safe)\nPlay allowed? Yes\, there will be a darkroom area for play.\nWhat genders are allowed? Male-identifying folks (cis men\, trans men\, nonbinary folks under the trans-masculine umbrella).\nWhat ages are allowed? You must be 19+ to attend due to Ontario liquor laws.\nDo I need to bring ID? Yes\, you must have valid government-issued physical ID. Digital IDs are NOT PERMITTED by the venue.\n\nConsent policy: \nConsent is mandatory. No means no. Don’t touch others unless its mutually desired. \nCheck out the two co-organizers: \n\nGay Naturists International (GNI): https://www.gaynaturists.org/\nToronto Nude Dudes (TND): https://shor.by/tnd\n\nNOTE: For other events happening during that weekend including yoga & socials\, visit GNI directly. This page is for the Naked Dance portion of the weekend only. https://www.gaynaturists.org/ \n 
URL:https://gaystufftoronto.com/event/toronto-fest-2026-naked-dance/
CATEGORIES:For Guys
ATTACH;FMTTYPE=image/jpeg:https://gaystufftoronto.com/wp-content/uploads/2026/04/TorontoFest2026.webp
END:VEVENT
END:VCALENDAR