BEGIN:VCALENDAR
VERSION:2.0
PRODID:-//Freakin&#039; Awesome Gay Stuff - ECPv6.15.20//NONSGML v1.0//EN
CALSCALE:GREGORIAN
METHOD:PUBLISH
X-ORIGINAL-URL:https://gaystufftoronto.com
X-WR-CALDESC:Events for Freakin&#039; Awesome Gay Stuff
REFRESH-INTERVAL;VALUE=DURATION:PT1H
X-Robots-Tag:noindex
X-PUBLISHED-TTL:PT1H
BEGIN:VTIMEZONE
TZID:America/New_York
BEGIN:DAYLIGHT
TZOFFSETFROM:-0500
TZOFFSETTO:-0400
TZNAME:EDT
DTSTART:20250309T070000
END:DAYLIGHT
BEGIN:STANDARD
TZOFFSETFROM:-0400
TZOFFSETTO:-0500
TZNAME:EST
DTSTART:20251102T060000
END:STANDARD
BEGIN:DAYLIGHT
TZOFFSETFROM:-0500
TZOFFSETTO:-0400
TZNAME:EDT
DTSTART:20260308T070000
END:DAYLIGHT
BEGIN:STANDARD
TZOFFSETFROM:-0400
TZOFFSETTO:-0500
TZNAME:EST
DTSTART:20261101T060000
END:STANDARD
BEGIN:DAYLIGHT
TZOFFSETFROM:-0500
TZOFFSETTO:-0400
TZNAME:EDT
DTSTART:20270314T070000
END:DAYLIGHT
BEGIN:STANDARD
TZOFFSETFROM:-0400
TZOFFSETTO:-0500
TZNAME:EST
DTSTART:20271107T060000
END:STANDARD
END:VTIMEZONE
BEGIN:VEVENT
DTSTART;TZID=America/New_York:20260304T210000
DTEND;TZID=America/New_York:20260305T023000
DTSTAMP:20260424T103403
CREATED:20260227T092019Z
LAST-MODIFIED:20260227T092019Z
UID:10000205-1772658000-1772677800@gaystufftoronto.com
SUMMARY:FORBIDDEN - March 4
DESCRIPTION:Turn hump day into HUMP DAY at this weekly clothing optional bar experience. Make new connections\, enjoy low-priced drinks and get naughty too\, if the mood hits. \n\nTickets: $12 at the door or $8 online in advance (or free if you have the PINKCARD)\nDrink Specials: $5 bar rail and $7.50 Heineken! (bar takes cards only\, no cash)\nDress Code: Clothing Optional (undress as much or as little as you like)\nClothes Check: Free (tipping encouraged)\nMusic: A chill deep house soundtrack\nFor: Guys\n\nDisclaimers: \n\nPrices subject to HST.\nNote: we don’t sell the drinks – we are simply sharing info on what the venue is offering and take no responsibility for drink availability\, price or anything drink-related.
URL:https://gaystufftoronto.com/event/forbidden-march-4-2026/
LOCATION:The 508 Upstairs Space\, 508A Church St\, Toronto\, ON\, M4Y 2C8\, Canada
CATEGORIES:For Guys
ATTACH;FMTTYPE=image/png:https://gaystufftoronto.com/wp-content/uploads/2026/02/Forbidden-Feb-2025-3.avif
END:VEVENT
BEGIN:VEVENT
DTSTART;TZID=America/New_York:20260308T160000
DTEND;TZID=America/New_York:20260308T210000
DTSTAMP:20260424T103403
CREATED:20260303T040024Z
LAST-MODIFIED:20260303T040230Z
UID:10000206-1772985600-1773003600@gaystufftoronto.com
SUMMARY:STARKERS! - March 8
DESCRIPTION:STARKERS! is the Sunday Tea Dance where the dress code is completely starkers (naked). Early enough to be in bed for your Monday morning adulting.\n\nThere are TWO editions of STARKERS this month instead of 1 because March has 5 Sundays instead of 4 so we got to do an extra one! Come to one or come to both. Each one requires its own ticket purchase. \nTICKET REQUIRED: \n\n\nTo get a ticket for March 8: You are HERE! 🙂 \n\n\nTo get a ticket for March 22: https://gaystufftoronto.com/event/starkers-march-22-2026/ \n\n\nTickets are $10 if you buy in advance online or $15 day-of/at-door. \n\n\nDJ Sumation will be playing at both events. \n3 Areas: \n\nLounge area for socializing.\nDance floor for dancing\nDark room for play.\n\nClothes check is free. You may wish to bring a cash tip for the attendants. \nThe bar will have alcoholic and non-alcoholic drinks for sale (they only take Interac / VISA / MasterCard / Apple Pay / Google Pay). \n  \nThis event is in partnership with Toronto Nude Dudes (TND) – the club for men into social naturism/nudism. Learn more about them by following TND on Instagram: @torontonudedudes
URL:https://gaystufftoronto.com/event/starkers-march-8-2026/
LOCATION:The 508 Upstairs Space\, 508A Church St\, Toronto\, ON\, M4Y 2C8\, Canada
CATEGORIES:For Guys
ATTACH;FMTTYPE=image/jpeg:https://gaystufftoronto.com/wp-content/uploads/2026/03/STARKERS-March2026.avif
END:VEVENT
BEGIN:VEVENT
DTSTART;TZID=America/New_York:20260311T190000
DTEND;TZID=America/New_York:20260311T235900
DTSTAMP:20260424T103403
CREATED:20260305T181708Z
LAST-MODIFIED:20260310T025436Z
UID:10000208-1773255600-1773273540@gaystufftoronto.com
SUMMARY:FORBIDDEN - March 11
DESCRIPTION:Turn hump day into HUMP DAY at this weekly clothing optional bar experience. Make new connections\, enjoy low-priced drinks and get naughty too\, if the mood hits. Students & guys under 30 get in free all night. \n\nTickets: $12 at the door or $8 online in advance (or free if you have the PINKCARD)\nFREE for Students and guys under 30 (valid ID required at door)\nDrink Specials: $5 bar rail and $7.50 Heineken! (bar takes cards only\, no cash)\nDress Code: Clothing Optional (undress as much or as little as you like)\nClothes Check: Free (tipping encouraged)\nMusic: A chill deep house soundtrack\nFor: Guys\n\nDisclaimers: \n\nPrices subject to HST.\nNote: we don’t sell the drinks – we are simply sharing info on what the venue is offering and take no responsibility for drink availability\, price or anything drink-related.
URL:https://gaystufftoronto.com/event/forbidden-march-11-2026/
LOCATION:The 508 Upstairs Space\, 508A Church St\, Toronto\, ON\, M4Y 2C8\, Canada
CATEGORIES:For Guys
ATTACH;FMTTYPE=image/png:https://gaystufftoronto.com/wp-content/uploads/2026/02/Forbidden-Feb-2025-3.avif
END:VEVENT
BEGIN:VEVENT
DTSTART;TZID=America/New_York:20260312T180000
DTEND;TZID=America/New_York:20260312T220000
DTSTAMP:20260424T103403
CREATED:20260312T174622Z
LAST-MODIFIED:20260312T174622Z
UID:10000211-1773338400-1773352800@gaystufftoronto.com
SUMMARY:Naked Singles Mixer for Guys
DESCRIPTION:Are you single and looking to mingle? Then this is the event for you! \nHOW IT WORKS: \n\nEnjoy a chill\, social vibe where you can meet other guys who love naturism AND who are looking for LOVE!\nYou will get a GUY FINDER BINGO card that encourages you to speak to every guy in attendance and turns the awkwardness into a fun game! There will also be other activities meant to break the ice and help you meet people.\nThis event is geared towards those who are looking for a genuine romantic relationship / connection of some kind or friendship at the minimum (This is NOT a hookup event).\nPlease encourage yourself to speak with everyone at the event. You never know who could be that special someone.\n\nFORMAT: Social / Naturist (🍃)\nDRESS CODE: Naked (please keep shoes on)\nBAR? Yes\, alcoholic and non-alcoholic drinks will be available for sale. Please support the bar by buying something so they continue to let us run these events. \nCLOTHES CHECK: There will be a safe self-serve area monitored by a TND volunteer.\nPLEASE BRING: A towel to sit on AND your own beverages. \nIS THIS EVENT DANCEY? No.\nIS THIS A SEX EVENT? No.
URL:https://gaystufftoronto.com/event/naked-singles-mixer-for-guys/
LOCATION:The 508 Upstairs Space\, 508A Church St\, Toronto\, ON\, M4Y 2C8\, Canada
CATEGORIES:For Guys
ATTACH;FMTTYPE=image/jpeg:https://gaystufftoronto.com/wp-content/uploads/2026/03/MENS-NAKED-SINGLES-MIXER.avif
END:VEVENT
BEGIN:VEVENT
DTSTART;TZID=America/New_York:20260314T170000
DTEND;TZID=America/New_York:20260314T210000
DTSTAMP:20260424T103403
CREATED:20260309T082909Z
LAST-MODIFIED:20260309T083417Z
UID:10000210-1773507600-1773522000@gaystufftoronto.com
SUMMARY:Board Games in the Buff
DESCRIPTION:Toronto Nude Dudes presents BOARD GAMES IN THE BUFF \nJoin us for an afternoon of board games with fellow guys without the need for clothing. It’s a body-positive\, liberating experience meant to help build connection among men. Come with friends or come solo and make new friends at the event. \nDress code is naked (shoes stay on unless actively playing Twister which has a designated area). \nClothes check is self-serve (and volunteer supervised). \nThis is strictly a platonic\, social naturism event and strictly NO SEX occurs.
URL:https://gaystufftoronto.com/event/board-games-buff-march-2026/
LOCATION:The 508 Upstairs Space\, 508A Church St\, Toronto\, ON\, M4Y 2C8\, Canada
CATEGORIES:For Guys
ATTACH;FMTTYPE=image/jpeg:https://gaystufftoronto.com/wp-content/uploads/2026/03/BoardGamesInTheBuff.avif
END:VEVENT
BEGIN:VEVENT
DTSTART;TZID=America/New_York:20260318T190000
DTEND;TZID=America/New_York:20260318T235900
DTSTAMP:20260424T103403
CREATED:20260315T192542Z
LAST-MODIFIED:20260315T192542Z
UID:10000212-1773860400-1773878340@gaystufftoronto.com
SUMMARY:FORBIDDEN - March 18
DESCRIPTION:Turn hump day into HUMP DAY at this weekly clothing optional bar experience. Make new connections\, enjoy low-priced drinks and get naughty too\, if the mood hits. Students & guys under 30 get in free all night. \n\nTickets: $12 at the door or $8 online in advance (or free if you have the PINKCARD)\nFREE for Students and guys under 30 (valid ID required at door)\nDrink Specials: $5 bar rail and $7.50 Heineken! (bar takes cards only\, no cash)\nDress Code: Clothing Optional (undress as much or as little as you like)\nClothes Check: Free (tipping encouraged)\nMusic: A chill deep house soundtrack\nFor: Guys\n\nDisclaimers: \n\nPrices subject to HST.\nNote: we don’t sell the drinks – we are simply sharing info on what the venue is offering and take no responsibility for drink availability\, price or anything drink-related.
URL:https://gaystufftoronto.com/event/forbidden-march-18-2026/
LOCATION:The 508 Upstairs Space\, 508A Church St\, Toronto\, ON\, M4Y 2C8\, Canada
CATEGORIES:For Guys
ATTACH;FMTTYPE=image/png:https://gaystufftoronto.com/wp-content/uploads/2026/02/Forbidden-Feb-2025-3.avif
END:VEVENT
BEGIN:VEVENT
DTSTART;TZID=America/New_York:20260322T160000
DTEND;TZID=America/New_York:20260322T210000
DTSTAMP:20260424T103403
CREATED:20260303T040740Z
LAST-MODIFIED:20260319T152153Z
UID:10000207-1774195200-1774213200@gaystufftoronto.com
SUMMARY:STARKERS! - March 22
DESCRIPTION:STARKERS! is the Sunday Tea Dance where the dress code is completely starkers (naked). Early enough to be in bed for your Monday morning adulting.\n \nTickets are $10 if you buy in advance online or $15 day-of/at-door. \nDJ Sumation will be playing a mix of house & dance classics – so get ready to hear some throwbacks. \n3 Areas: \n\nLounge area for socializing.\nDance floor for dancing.\nDark room for play.\n\nClothes check is free. You may wish to bring a cash tip for the attendants. \nThe bar will have alcoholic and non-alcoholic drinks for sale (they only take Interac / VISA / MasterCard / Apple Pay / Google Pay). \nThis event is in partnership with Toronto Nude Dudes (TND) – the club for men into social naturism/nudism. Learn more about them by visiting https://shor.by/tnd
URL:https://gaystufftoronto.com/event/starkers-march-22-2026/
LOCATION:The 508 Upstairs Space\, 508A Church St\, Toronto\, ON\, M4Y 2C8\, Canada
CATEGORIES:For Guys
ATTACH;FMTTYPE=image/png:https://gaystufftoronto.com/wp-content/uploads/2026/03/STARKERS-March22.avif
END:VEVENT
BEGIN:VEVENT
DTSTART;TZID=America/New_York:20260325T190000
DTEND;TZID=America/New_York:20260325T235900
DTSTAMP:20260424T103403
CREATED:20260319T125108Z
LAST-MODIFIED:20260319T125108Z
UID:10000216-1774465200-1774483140@gaystufftoronto.com
SUMMARY:FORBIDDEN - March 25
DESCRIPTION:Turn hump day into HUMP DAY at this weekly clothing optional bar experience. Make new connections\, enjoy low-priced drinks and get naughty too\, if the mood hits. Students & guys under 30 get in free all night. \n\nTickets: $12 at the door or $8 online in advance (or free if you have the PINKCARD)\nFREE for Students and guys under 30 (valid ID required at door)\nDrink Specials: $5 bar rail and $7.50 Heineken! (bar takes cards only\, no cash)\nDress Code: Clothing Optional (undress as much or as little as you like)\nClothes Check: Free (tipping encouraged)\nMusic: A chill deep house soundtrack\nFor: Guys\n\nDisclaimers: \n\nPrices subject to HST.\nNote: we don’t sell the drinks – we are simply sharing info on what the venue is offering and take no responsibility for drink availability\, price or anything drink-related.
URL:https://gaystufftoronto.com/event/forbidden-march-25/
LOCATION:The 508 Upstairs Space\, 508A Church St\, Toronto\, ON\, M4Y 2C8\, Canada
CATEGORIES:For Guys
ATTACH;FMTTYPE=image/png:https://gaystufftoronto.com/wp-content/uploads/2026/03/Forbidden-March-NEW.avif
END:VEVENT
BEGIN:VEVENT
DTSTART;TZID=America/New_York:20260326T190000
DTEND;TZID=America/New_York:20260326T220000
DTSTAMP:20260424T103403
CREATED:20260227T084211Z
LAST-MODIFIED:20260316T195449Z
UID:10000204-1774551600-1774562400@gaystufftoronto.com
SUMMARY:TEMPTATION - Strip Tease Competition
DESCRIPTION:Amateur (and amateur-ish) guys perform for you and you (the audience) decide who wins at this sexy & friendly competition series. \n\nEach contestant will perform 2 songs (one in act 1 and one in act 2).\n$500 Cash & prizes for the winner(s) courtesy of our sponsors.\nEach audience member gets 3 voting cards meaning YOU are the judge! Voting happens at the end of Act 2\, so plan to stay for the full event.\nDoors open at 6:30 so you can get settled\, grab a drink\, etc. Show starts at 7pm(ish).\nThis event is a cabaret/show format that will involve 2 acts with a short intermission in the middle.\nThe event will wrap up at or before 10pm at the very latest.\n\nSPONSORS \n\nPrizes courtesy of Freakin’ Awesome Gay Stuff\, The Men’s Room\, Whiskful Thinking Bakery and MagnificentLEDJackets.com\n\nWHO ARE THE CONTESTANTS? \n\nAs competitors sign up\, we will update this page. Keep your eyes peeled.\n\nWANT TO BE A CONTESTANT? \n\nSign up here: https://forms.gle/bs8b713DBm9LHoiF8\nContestants have the chance to win a share of a the $500 cash prize\, plus tickets to events\, gift cards from sponsors and more!\nAll skill levels\, ages and body shapes are welcome! Try something new and expand your horizons.\nThe idea is that this is a competition for amateurs. If you are an expert\, perhaps leave space for those who aren’t. If you are somewhere in between\, then we encourage you to join in.\nPre-registration is required via the link above (you can’t just compete by showing up on the day of).\n\nMORE INFO: \n\nThe audience remains fully dressed. Only the contestants take their clothes off.\nPhotos/Videos are not permitted by the general audience. Select contestants may choose to have 1 designated person film their performance\, but the general audience is not permitted to help all contestants feel safe & secure.\n\n 
URL:https://gaystufftoronto.com/event/temptation-march-2026/
LOCATION:The 508 – Zone Backspace\, 508A Church St\, Toronto\, ON\, M4Y 2C8\, Canada
CATEGORIES:For Everyone
ATTACH;FMTTYPE=image/jpeg:https://gaystufftoronto.com/wp-content/uploads/2026/02/Temptation-March2026.avif
END:VEVENT
BEGIN:VEVENT
DTSTART;TZID=America/New_York:20260328T210000
DTEND;TZID=America/New_York:20260329T023000
DTSTAMP:20260424T103403
CREATED:20260317T214334Z
LAST-MODIFIED:20260318T075352Z
UID:10000213-1774731600-1774751400@gaystufftoronto.com
SUMMARY:FRAT HOUSE X
DESCRIPTION:Dive into a college fraternity-themed event that is for the gay dudes\, bromos and bi buds (and those into them). \n🕺 Dance to banging music by DJ Sumation.\n🏓 Play beer pong and/or flip cup.\n😉 Get hazed* in one of the live hazing shows hosted by Frat Dad Kyle! From whipped cream to a whip or two? What will he have in store for you and/or your friends that you encourage to get hazed?\n😈 Feeling frisky?** There’s a mini darkroom for you to serve your fellow bros what they’ve been craving. \nTICKETS: \n\n$10 Early Bird (very limited supply)\n$15 Advanced (available until the day before the event)\n$20 day-of\nThis is a smaller venue than many others we book\, so it’s likely to fill up much quicker. We may not have any tickets at the door.\nTickets subject to HST (sales tax).\n\nNOTE: \n* The live hazing shows are just for fun and do not contain dangerous or illegal acts. They are not “real hazing” and require consent. The “Frat Dads” are hosts and they will discuss with you your limits should you wish to participate. You do not have to take part in the hazing shows if you don’t want to. You will not be forced to do anything you don’t wanna do. \n** Consent is mandatory. No means no.
URL:https://gaystufftoronto.com/event/frat-house-x-march-2026/
LOCATION:The 508 – Zone Backspace\, 508A Church St\, Toronto\, ON\, M4Y 2C8\, Canada
CATEGORIES:For Guys
ATTACH;FMTTYPE=image/jpeg:https://gaystufftoronto.com/wp-content/uploads/2026/03/FratHouseX-March.avif
END:VEVENT
BEGIN:VEVENT
DTSTART;TZID=America/New_York:20260329T160000
DTEND;TZID=America/New_York:20260329T210000
DTSTAMP:20260424T103403
CREATED:20260305T183256Z
LAST-MODIFIED:20260305T183256Z
UID:10000209-1774800000-1774818000@gaystufftoronto.com
SUMMARY:LOCKER ROOM: Jerseys vs. Jockstraps
DESCRIPTION:LOCKER ROOM is back at an all-new location\, all-new DJ\, all-new time and all-new theme. The only thing not new is the friendly\, flirty & sporty vibe! \nCome hang out with sporty guys (and those who can pretend they are sporty). \nThis month\, the theme is JERSEYS VS. JOCKSTRAPS – choose your team and show off your sporty style. Which team do you think will have more members? \nThere are 3 areas: \n\nBar area is for socializing & hanging out.\nDance floor with DJ Aldiexso for dancing.\nDarkroom for extracurriculars 😉\n\nTickets are $10 in advance or $15 day-of/at the door. \n\nClothes Check: is free (but please consider bringing some cash to tip your attendant)\nPhotos/Videos Policy: Photos/Videos ARE permitted at this event. Please be respectful and ask others for consent if they are in your content. Please do NOT take photos/videos in the darkroom area.\nDark Room: The event has a small darkroom area. Play is permitted in the darkroom only. Consent is mandatory.
URL:https://gaystufftoronto.com/event/locker-room-march-2026/
LOCATION:The 508 Upstairs Space\, 508A Church St\, Toronto\, ON\, M4Y 2C8\, Canada
CATEGORIES:For Guys
ATTACH;FMTTYPE=image/jpeg:https://gaystufftoronto.com/wp-content/uploads/2026/03/LockerRoom-March-2026-V3.avif
END:VEVENT
END:VCALENDAR