BEGIN:VCALENDAR
VERSION:2.0
PRODID:-//Freakin&#039; Awesome Gay Stuff - ECPv6.15.20//NONSGML v1.0//EN
CALSCALE:GREGORIAN
METHOD:PUBLISH
X-ORIGINAL-URL:https://gaystufftoronto.com
X-WR-CALDESC:Events for Freakin&#039; Awesome Gay Stuff
REFRESH-INTERVAL;VALUE=DURATION:PT1H
X-Robots-Tag:noindex
X-PUBLISHED-TTL:PT1H
BEGIN:VTIMEZONE
TZID:America/New_York
BEGIN:DAYLIGHT
TZOFFSETFROM:-0500
TZOFFSETTO:-0400
TZNAME:EDT
DTSTART:20250309T070000
END:DAYLIGHT
BEGIN:STANDARD
TZOFFSETFROM:-0400
TZOFFSETTO:-0500
TZNAME:EST
DTSTART:20251102T060000
END:STANDARD
BEGIN:DAYLIGHT
TZOFFSETFROM:-0500
TZOFFSETTO:-0400
TZNAME:EDT
DTSTART:20260308T070000
END:DAYLIGHT
BEGIN:STANDARD
TZOFFSETFROM:-0400
TZOFFSETTO:-0500
TZNAME:EST
DTSTART:20261101T060000
END:STANDARD
BEGIN:DAYLIGHT
TZOFFSETFROM:-0500
TZOFFSETTO:-0400
TZNAME:EDT
DTSTART:20270314T070000
END:DAYLIGHT
BEGIN:STANDARD
TZOFFSETFROM:-0400
TZOFFSETTO:-0500
TZNAME:EST
DTSTART:20271107T060000
END:STANDARD
END:VTIMEZONE
BEGIN:VEVENT
DTSTART;TZID=America/New_York:20260308T160000
DTEND;TZID=America/New_York:20260308T210000
DTSTAMP:20260424T144348
CREATED:20260303T040024Z
LAST-MODIFIED:20260303T040230Z
UID:10000206-1772985600-1773003600@gaystufftoronto.com
SUMMARY:STARKERS! - March 8
DESCRIPTION:STARKERS! is the Sunday Tea Dance where the dress code is completely starkers (naked). Early enough to be in bed for your Monday morning adulting.\n\nThere are TWO editions of STARKERS this month instead of 1 because March has 5 Sundays instead of 4 so we got to do an extra one! Come to one or come to both. Each one requires its own ticket purchase. \nTICKET REQUIRED: \n\n\nTo get a ticket for March 8: You are HERE! 🙂 \n\n\nTo get a ticket for March 22: https://gaystufftoronto.com/event/starkers-march-22-2026/ \n\n\nTickets are $10 if you buy in advance online or $15 day-of/at-door. \n\n\nDJ Sumation will be playing at both events. \n3 Areas: \n\nLounge area for socializing.\nDance floor for dancing\nDark room for play.\n\nClothes check is free. You may wish to bring a cash tip for the attendants. \nThe bar will have alcoholic and non-alcoholic drinks for sale (they only take Interac / VISA / MasterCard / Apple Pay / Google Pay). \n  \nThis event is in partnership with Toronto Nude Dudes (TND) – the club for men into social naturism/nudism. Learn more about them by following TND on Instagram: @torontonudedudes
URL:https://gaystufftoronto.com/event/starkers-march-8-2026/
LOCATION:The 508 Upstairs Space\, 508A Church St\, Toronto\, ON\, M4Y 2C8\, Canada
CATEGORIES:For Guys
ATTACH;FMTTYPE=image/jpeg:https://gaystufftoronto.com/wp-content/uploads/2026/03/STARKERS-March2026.avif
END:VEVENT
BEGIN:VEVENT
DTSTART;TZID=America/New_York:20260304T210000
DTEND;TZID=America/New_York:20260305T023000
DTSTAMP:20260424T144348
CREATED:20260227T092019Z
LAST-MODIFIED:20260227T092019Z
UID:10000205-1772658000-1772677800@gaystufftoronto.com
SUMMARY:FORBIDDEN - March 4
DESCRIPTION:Turn hump day into HUMP DAY at this weekly clothing optional bar experience. Make new connections\, enjoy low-priced drinks and get naughty too\, if the mood hits. \n\nTickets: $12 at the door or $8 online in advance (or free if you have the PINKCARD)\nDrink Specials: $5 bar rail and $7.50 Heineken! (bar takes cards only\, no cash)\nDress Code: Clothing Optional (undress as much or as little as you like)\nClothes Check: Free (tipping encouraged)\nMusic: A chill deep house soundtrack\nFor: Guys\n\nDisclaimers: \n\nPrices subject to HST.\nNote: we don’t sell the drinks – we are simply sharing info on what the venue is offering and take no responsibility for drink availability\, price or anything drink-related.
URL:https://gaystufftoronto.com/event/forbidden-march-4-2026/
LOCATION:The 508 Upstairs Space\, 508A Church St\, Toronto\, ON\, M4Y 2C8\, Canada
CATEGORIES:For Guys
ATTACH;FMTTYPE=image/png:https://gaystufftoronto.com/wp-content/uploads/2026/02/Forbidden-Feb-2025-3.avif
END:VEVENT
BEGIN:VEVENT
DTSTART;TZID=America/New_York:20260225T210000
DTEND;TZID=America/New_York:20260226T023000
DTSTAMP:20260424T144348
CREATED:20260225T020716Z
LAST-MODIFIED:20260225T020716Z
UID:10000203-1772053200-1772073000@gaystufftoronto.com
SUMMARY:FORBIDDEN - Feb 25
DESCRIPTION:Turn hump day into HUMP DAY at this weekly clothing optional bar experience. Make new connections\, enjoy low-priced drinks and get naughty too\, if the mood hits. \n\nTickets: $12 at the door or $8 online in advance (or free if you have the PINKCARD)\nDrink Specials: $5 bar rail and $7.50 Heineken!\nDress Code: Clothing Optional (undress as much or as little as you like)\nClothes Check: Free (tipping encouraged)\nMusic: A chill deep house soundtrack\n\nDisclaimers: \n\nPrices subject to HST.\nNote: we don’t sell the drinks – we are simply sharing info on what the venue is offering and take no responsibility for drink availability\, price or anything drink-related.
URL:https://gaystufftoronto.com/event/forbidden-feb-25/
LOCATION:The 508 Upstairs Space\, 508A Church St\, Toronto\, ON\, M4Y 2C8\, Canada
CATEGORIES:For Guys
ATTACH;FMTTYPE=image/png:https://gaystufftoronto.com/wp-content/uploads/2026/02/Forbidden-Feb-2025-3.avif
END:VEVENT
BEGIN:VEVENT
DTSTART;TZID=America/New_York:20260218T210000
DTEND;TZID=America/New_York:20260219T023000
DTSTAMP:20260424T144348
CREATED:20260216T104941Z
LAST-MODIFIED:20260216T112600Z
UID:10000202-1771448400-1771468200@gaystufftoronto.com
SUMMARY:FORBIDDEN - Feb 18
DESCRIPTION:Turn hump day into HUMP DAY at this weekly naughty bar experience. Make new connections\, enjoy low-priced drinks and get naughty too\, if the mood hits. \n\nTickets: $12 at the door or $8 online in advance (or free if you have the PINKCARD)\nDrink Specials: $5 bar rail and $7.50 Heineken!\nDress Code: Whatever you want (undress as much or as little as you like)\nClothes Check: Free (tipping encouraged)\nMusic: A sexy deep house soundtrack to keep you gyrating.\n\nDisclaimers: \n\nPrices subject to HST.\nNote: we don’t sell the drinks – we are simply sharing info on what the venue is offering and take no responsibility for drink availability\, price or anything drink-related.
URL:https://gaystufftoronto.com/event/forbidden-feb-18/
LOCATION:The 508 Upstairs Space\, 508A Church St\, Toronto\, ON\, M4Y 2C8\, Canada
CATEGORIES:For Guys
ATTACH;FMTTYPE=image/png:https://gaystufftoronto.com/wp-content/uploads/2026/01/Forbidden-Feb-2025.avif
END:VEVENT
BEGIN:VEVENT
DTSTART;TZID=America/New_York:20260215T210000
DTEND;TZID=America/New_York:20260216T023000
DTSTAMP:20260424T144348
CREATED:20260124T063154Z
LAST-MODIFIED:20260210T201509Z
UID:10000098-1771189200-1771209000@gaystufftoronto.com
SUMMARY:JOCKS & SOCKS - Family Day Long Weekend
DESCRIPTION:JOCKS & SOCKS is back for a very special edition on Family Day Long Weekend Sunday! It’s the high-energy jockstrap (and accessories) dance party for guys! Come show off that peach! \n\nDJ Tstormers is playing an epic house mix\nDress code is Jockstraps & Accessories (shoes must stay on)\nFree clothes check (encouraged: bringing cash to tip the CC attendants)\nFor guys (when we say guys that includes both cis and trans guys as well as non-binary folks who identify with the crowd).\nWhile mostly dance-focussed\, play is permitted at this event. There is no darkroom\, but the event is play-positive.\nNo photos or videos are permitted at this event.\n\nThis is a limited space venue and is likely to sell out quickly. Ticket holders will be given priority entry until midnight only\, after-which ticket holders and at-door will be treated as one line. Tickets will be available at the door if space permits\, so expect lines if we are full.
URL:https://gaystufftoronto.com/event/jocks-socks-feb-2026/
LOCATION:The 508 Upstairs Space\, 508A Church St\, Toronto\, ON\, M4Y 2C8\, Canada
CATEGORIES:For Guys
ATTACH;FMTTYPE=image/png:https://gaystufftoronto.com/wp-content/uploads/2026/01/Jocks-and-Socks-Febr-2026.avif
END:VEVENT
BEGIN:VEVENT
DTSTART;TZID=America/New_York:20260208T160000
DTEND;TZID=America/New_York:20260208T210000
DTSTAMP:20260424T144348
CREATED:20260122T043943Z
LAST-MODIFIED:20260124T072927Z
UID:10000096-1770566400-1770584400@gaystufftoronto.com
SUMMARY:Starkers!
DESCRIPTION:Come enjoy this dancey\, play-positive totally naked event run by Toronto Nude Dudes in partnership with Freakin’ Awesome Gay Stuff. \nNo photos or videos allowed. Play permitted anywhere at this event. Dance or get flirty as you see fit. \nThis event also celebrates the birthdays of Matkai and Helder. \nAccessibility Notice: This venue is on the 2nd floor space and you must walk up stairs to access it which sadly means it is not fully accessible.
URL:https://gaystufftoronto.com/event/starkers-jan-2026/
LOCATION:The 508 Upstairs Space\, 508A Church St\, Toronto\, ON\, M4Y 2C8\, Canada
CATEGORIES:For Guys
ATTACH;FMTTYPE=image/png:https://gaystufftoronto.com/wp-content/uploads/2026/01/Starkers-Poster.avif
END:VEVENT
END:VCALENDAR